BEGIN:VCALENDAR
VERSION:2.0
PRODID:-//imim.es//NONSGML kigkonsult.se iCalcreator 2.10//
X-WR-CALNAME:IMIM Calendar
X-WR-TIMEZONE:Europe/Madrid
BEGIN:VTIMEZONE
TZID:Europe/Madrid
LAST-MODIFIED:20260423T122639Z
END:VTIMEZONE
BEGIN:VEVENT
UID:20260423T164739CEST-8435WDaURV@imim.es
DTSTAMP:20260423T140439Z
CATEGORIES:IMIM
CATEGORIES:SESSION
CLASS:PUBLIC
DESCRIPTION:Us convidem al pròxim Hospital del Mar Research Institute /MELI
 S UPF Seminar que tindrà lloc el dimarts 19/05/2026 a les 12:00h a la Sala
  Charles Darwin. El seminari constarà de dues xerrades\, una a càrrec de J
 oaquín Arribas\, de l&#39\;Hospital del Mar Research Institute (HMRIB)\, a
 mb el títol 'Immune redirections against cancer' i l&#39\;altra a càrrec d
 e Marc Güell\, coordinador del Grup de Recerca en Biologia Sintètica Trans
 lacional amb el títol 'Editing genomes\, metagenomes and the advent of syn
 thetic evolution.”
DTSTART:20260519T120000
DTEND:20260519T140000
LOCATION:Sala Charles Darwin
SUMMARY:Immune redirections against cancer/Editing genomes\, metagenomes an
 d the advent of synthetic evolution
URL:http://www.researchmar.net/agenda/view.php?ID=1080
END:VEVENT
END:VCALENDAR
