BEGIN:VCALENDAR
VERSION:2.0
PRODID:-//imim.es//NONSGML kigkonsult.se iCalcreator 2.10//
X-WR-CALNAME:IMIM Calendar
X-WR-TIMEZONE:Europe/Madrid
BEGIN:VTIMEZONE
TZID:Europe/Madrid
LAST-MODIFIED:20260422T151715Z
END:VTIMEZONE
BEGIN:VEVENT
UID:20260422T182444CEST-1143BfGs6V@imim.es
DTSTAMP:20260422T160444Z
CATEGORIES:IMIM
CATEGORIES:SESSION
CLASS:PUBLIC
DESCRIPTION:El pròxim dimecres 20 de maig a les 20h a la Cafeteria La Pau\,
  Carrer Pere Vergés\, 1\, 1a planta\, tindrà lloc la xerrada 'La bioquímic
 a del bienestar'. A càrrec de Francisco Madrid-Gambin\, investigador del g
 rup de recerca en metabolòmica aplicada a l&#39\;Hospital del Mar Research
  Institute.
DTSTART:20260520T200000
DTEND:20260520T210000
LOCATION:Cafeteria La Pau
SUMMARY:La bioquímica del bienestar
URL:http://www.researchmar.net/agenda/view.php?ID=1079
END:VEVENT
END:VCALENDAR
