BEGIN:VCALENDAR
VERSION:2.0
PRODID:-//imim.es//NONSGML kigkonsult.se iCalcreator 2.10//
X-WR-CALNAME:IMIM Calendar
X-WR-TIMEZONE:Europe/Madrid
BEGIN:VTIMEZONE
TZID:Europe/Madrid
LAST-MODIFIED:20260421T152626Z
END:VTIMEZONE
BEGIN:VEVENT
UID:20260421T190651CEST-9532u22egl@imim.es
DTSTAMP:20260421T170451Z
CATEGORIES:IMIM
CATEGORIES:SESSION
CLASS:PUBLIC
DESCRIPTION:A new edition of Green Hippocampus will take place at the PRBB 
 Auditorium on May 11-12\, 2026. This two-day conference will focus on hipp
 ocampal physiology and network dynamics. Attendance is limited to a maximu
 m of 150 participants. The presentation format will include short talks\, 
 data blitz sessions\, and general discussions.
DTSTART:20260511T080000
DTEND:20260512T183000
LOCATION:Auditori\, PRBB
SUMMARY:Green Hippocampus
URL:http://www.researchmar.net/agenda/view.php?ID=1078
END:VEVENT
END:VCALENDAR
