BEGIN:VCALENDAR
VERSION:2.0
PRODID:-//imim.es//NONSGML kigkonsult.se iCalcreator 2.10//
X-WR-CALNAME:IMIM Calendar
X-WR-TIMEZONE:Europe/Madrid
BEGIN:VTIMEZONE
TZID:Europe/Madrid
LAST-MODIFIED:20260421T120306Z
END:VTIMEZONE
BEGIN:VEVENT
UID:20260421T132217CEST-1004d8VAbA@imim.es
DTSTAMP:20260421T110417Z
CATEGORIES:IMIM
CATEGORIES:SESSION
CLASS:PUBLIC
DESCRIPTION:Us convidem al pròxim seminari conjunt del Servei de Cardiologi
 a de l&#39\;Hospital del Mar i el Grup de Recerca Biomèdica en Malalties d
 el Cor de l&#39\;Hospital del Mar Research Institute\, que tindrà lloc el 
 divendres 24 d&#39\;abril 2026 a les 08:15 h a la Sala Marie-Curie.\n\nEl 
 títol serà 'Control cLDL con iPCSK9 en el Hospital del Mar' i anirà a càrr
 ec del Dr. Lluis Recasens Gracia\, cap de secció de Cardiologia i metge ad
 junt de l&#39\;Hospital del Mar.
DTSTART:20260424T081500
DTEND:20260424T100000
LOCATION:Sala Marie Curie
SUMMARY:Control cLDL con iPCSK9 en el Hospital del Mar
URL:http://www.researchmar.net/agenda/view.php?ID=1077
END:VEVENT
END:VCALENDAR
